BEGIN:VCALENDAR
VERSION:2.0
PRODID:-//AgriSafe Network - ECPv6.15.20//NONSGML v1.0//EN
CALSCALE:GREGORIAN
METHOD:PUBLISH
X-ORIGINAL-URL:https://www.agrisafe.org
X-WR-CALDESC:Events for AgriSafe Network
REFRESH-INTERVAL;VALUE=DURATION:PT1H
X-Robots-Tag:noindex
X-PUBLISHED-TTL:PT1H
BEGIN:VTIMEZONE
TZID:America/Chicago
BEGIN:DAYLIGHT
TZOFFSETFROM:-0600
TZOFFSETTO:-0500
TZNAME:CDT
DTSTART:20210314T080000
END:DAYLIGHT
BEGIN:STANDARD
TZOFFSETFROM:-0500
TZOFFSETTO:-0600
TZNAME:CST
DTSTART:20211107T070000
END:STANDARD
BEGIN:DAYLIGHT
TZOFFSETFROM:-0600
TZOFFSETTO:-0500
TZNAME:CDT
DTSTART:20220313T080000
END:DAYLIGHT
BEGIN:STANDARD
TZOFFSETFROM:-0500
TZOFFSETTO:-0600
TZNAME:CST
DTSTART:20221106T070000
END:STANDARD
BEGIN:DAYLIGHT
TZOFFSETFROM:-0600
TZOFFSETTO:-0500
TZNAME:CDT
DTSTART:20230312T080000
END:DAYLIGHT
BEGIN:STANDARD
TZOFFSETFROM:-0500
TZOFFSETTO:-0600
TZNAME:CST
DTSTART:20231105T070000
END:STANDARD
END:VTIMEZONE
BEGIN:VEVENT
DTSTART;TZID=America/Chicago:20221213T130000
DTEND;TZID=America/Chicago:20221213T140000
DTSTAMP:20260424T014105
CREATED:20221202T210809Z
LAST-MODIFIED:20221215T205515Z
UID:13110-1670936400-1670940000@www.agrisafe.org
SUMMARY:AgriSafe's New Initiative on Health and Safety for Forestry Workers
DESCRIPTION:Summary: Learn about AgriSafe’s new forestry initiative to reduce occupation-related health disparities for forestry workers through trainings. After the info session\, we will open the floor for questions\, comments\, and suggestions! \nAudience: All are welcome! \n Watch Now
URL:https://www.agrisafe.org/event/agrisafes-new-initiative-on-health-and-safety-for-forestry-workers/
ATTACH;FMTTYPE=image/png:https://www.agrisafe.org/wp-content/uploads/2022/12/Forestry-pictures-6.png
ORGANIZER;CN="Knesha Rose-Davison%2C MPH%2C CPH":MAILTO:info@agrisafe.org
END:VEVENT
END:VCALENDAR