BEGIN:VCALENDAR
VERSION:2.0
PRODID:-//AgriSafe Network - ECPv6.15.20//NONSGML v1.0//EN
CALSCALE:GREGORIAN
METHOD:PUBLISH
X-WR-CALNAME:AgriSafe Network
X-ORIGINAL-URL:https://www.agrisafe.org
X-WR-CALDESC:Events for AgriSafe Network
REFRESH-INTERVAL;VALUE=DURATION:PT1H
X-Robots-Tag:noindex
X-PUBLISHED-TTL:PT1H
BEGIN:VTIMEZONE
TZID:America/Chicago
BEGIN:DAYLIGHT
TZOFFSETFROM:-0600
TZOFFSETTO:-0500
TZNAME:CDT
DTSTART:20210314T080000
END:DAYLIGHT
BEGIN:STANDARD
TZOFFSETFROM:-0500
TZOFFSETTO:-0600
TZNAME:CST
DTSTART:20211107T070000
END:STANDARD
BEGIN:DAYLIGHT
TZOFFSETFROM:-0600
TZOFFSETTO:-0500
TZNAME:CDT
DTSTART:20220313T080000
END:DAYLIGHT
BEGIN:STANDARD
TZOFFSETFROM:-0500
TZOFFSETTO:-0600
TZNAME:CST
DTSTART:20221106T070000
END:STANDARD
BEGIN:DAYLIGHT
TZOFFSETFROM:-0600
TZOFFSETTO:-0500
TZNAME:CDT
DTSTART:20230312T080000
END:DAYLIGHT
BEGIN:STANDARD
TZOFFSETFROM:-0500
TZOFFSETTO:-0600
TZNAME:CST
DTSTART:20231105T070000
END:STANDARD
END:VTIMEZONE
BEGIN:VEVENT
DTSTART;VALUE=DATE:20220712
DTEND;VALUE=DATE:20220716
DTSTAMP:20260425T084857
CREATED:20220317T203644Z
LAST-MODIFIED:20220317T204024Z
UID:7212-1657584000-1657929599@www.agrisafe.org
SUMMARY:Agricultural Safety and Health Course for Medical and Safety Professionals
DESCRIPTION:The Agricultural Health and Safety Course for Medical and Safety Professionals is designed to examine key health and safety issues specific to rural and agricultural workers. Experts will present course material relevant to those working in health care\, public health\, education\, and safety professions. \nCourse Dates\n\nSession A: Agricultural Health — July 12-13\, 2022\nSession B: Agricultural Safety and Prevention — July 14-15\, 2022\nSession C: Special Topics — Online modules available July 12 – Aug. 12\, 2022\n\nHow to Participate in this Course\n\nThis course is offered free of charge. However\, registration for each session is required. Instructions to access the course will be sent via your registration confirmation email. IMPORTANT: You will also be required to pre-register in Zoom.\nSessions A and B will be delivered live via Zoom. Session C will consist of online modules that you may complete at your own pace.\nIf you are taking this course as part of a requirement or certificate program with the UNMC College of Public Health\, please note that you must register with the College to receive your course credit.\nTo receive continuing education credits\, you must complete all session/course requirements by Aug. 12\, 2022.\n\nTarget Audience\nThis course is intended for professionals who work with or have an interest in agricultural health and safety including physicians\, nurses\, emergency medical responders\, physician assistants\, health educators\, advanced practice nurses\, ag extension\, migrant health clinicians\, physical therapists\, insurance specialists\, veterinarians\, safety professionals\, and students. \n\nCourse Objectives\nAt the conclusion of this course\, the participant should be better able to: \n\nEvaluate the core elements of agricultural medicine.\nIntegrate the anticipation\, recognition\, diagnosis\, treatment\, and prevention of occupational and environmental illnesses and injuries within rural and agricultural communities.\nQualify to become an AgriSafe Provider in order to develop sustainable agricultural occupational health and safety delivery programs within their region.\n\nTo receive continuing education credit\, you must:\nSessions A and B:\n\nAttend selected session via Zoom in its entirety and view all online supplement modules.\nSuccessfully complete the online post-test for each selected session — open-book\, 70% accuracy.\nComplete the evaluation survey for the selected session.\n\nThe deadline to complete the course requirements including post-tests and evaluations is Aug. 12\, 2022. \nSession C:\n\nView all four online presentations in their entirety.\nSuccessfully complete the online post-test — open-book\, 70% accuracy.\nComplete the evaluation survey.\n\nThe deadline to complete this session is Aug. 12\, 2022. \n\nContinuing Education Credits\nIn support of improving patient care\, University of Nebraska Medical Center is jointly accredited by the Accreditation Council for Continuing Medical Education (ACCME)\, the Accreditation Council for Pharmacy Education (ACPE)\, and the American Nurses Credentialing Center (ANCC)\, to provide continuing education for the healthcare team. \nThis course is approved for AMA PRA Category 1 Credit(s)™\, ANCC credits\, and Emergency Medical Services Continuing Education. \n Register Here \nQuestions?\n\nIf you have questions about the content of this course\, please contact Ellen Duysen\, MPH\, COHC via email or call at 402-552-3394.\nIf you need assistance with online registration\, please call our Registration Office at 402-559-5929.\nFor all other questions\, please contact Jackie Farley via email.
URL:https://www.agrisafe.org/event/agricultural-safety-and-health-course-for-medical-and-safety-professionals/
CATEGORIES:Health Education and Promotion
ATTACH;FMTTYPE=image/jpeg:https://www.agrisafe.org/wp-content/uploads/2022/03/landing.jpg
END:VEVENT
BEGIN:VEVENT
DTSTART;TZID=America/Chicago:20220714T120000
DTEND;TZID=America/Chicago:20220714T133000
DTSTAMP:20260425T084857
CREATED:20220519T164915Z
LAST-MODIFIED:20221121T152227Z
UID:8743-1657800000-1657805400@www.agrisafe.org
SUMMARY:QPR for Farmers and Farm Families
DESCRIPTION:What is QPR? QPR training teaches laypeople and professionals to recognize and respond to mental health crises using the approach of Question\, Persuade and Refer. \nTo attend this training participants must be 18 years of age or older. \nIn this 1.5-hour QPR training\, we will provide:\n– Information on the unique challenges farmers face that can lead to stress\, depression\, and suicide.\n– Examples implementing each QPR component with someone at risk for suicide.\n– Information on how to help someone at risk of suicide. \nRegistration spots are limited\, so please only register if you can attend the event. No recording of this training will be available. Interested in hosting a QPR training session for your organization? Contact Olivia Bury (obury@agrisafe.org) for more information! \n See a list of our upcoming QPR training dates here!
URL:https://www.agrisafe.org/event/qpr-for-farmers-and-farm-families-7/
CATEGORIES:Cognition,Mental Health,QPR
ATTACH;FMTTYPE=image/png:https://www.agrisafe.org/wp-content/uploads/2021/09/QPR-Virtual-Training-Banner.png
END:VEVENT
END:VCALENDAR