BEGIN:VCALENDAR
VERSION:2.0
PRODID:-//AgriSafe Network - ECPv6.15.20//NONSGML v1.0//EN
CALSCALE:GREGORIAN
METHOD:PUBLISH
X-ORIGINAL-URL:https://www.agrisafe.org
X-WR-CALDESC:Events for AgriSafe Network
REFRESH-INTERVAL;VALUE=DURATION:PT1H
X-Robots-Tag:noindex
X-PUBLISHED-TTL:PT1H
BEGIN:VTIMEZONE
TZID:America/Chicago
BEGIN:DAYLIGHT
TZOFFSETFROM:-0600
TZOFFSETTO:-0500
TZNAME:CDT
DTSTART:20210314T080000
END:DAYLIGHT
BEGIN:STANDARD
TZOFFSETFROM:-0500
TZOFFSETTO:-0600
TZNAME:CST
DTSTART:20211107T070000
END:STANDARD
BEGIN:DAYLIGHT
TZOFFSETFROM:-0600
TZOFFSETTO:-0500
TZNAME:CDT
DTSTART:20220313T080000
END:DAYLIGHT
BEGIN:STANDARD
TZOFFSETFROM:-0500
TZOFFSETTO:-0600
TZNAME:CST
DTSTART:20221106T070000
END:STANDARD
BEGIN:DAYLIGHT
TZOFFSETFROM:-0600
TZOFFSETTO:-0500
TZNAME:CDT
DTSTART:20230312T080000
END:DAYLIGHT
BEGIN:STANDARD
TZOFFSETFROM:-0500
TZOFFSETTO:-0600
TZNAME:CST
DTSTART:20231105T070000
END:STANDARD
END:VTIMEZONE
BEGIN:VEVENT
DTSTART;VALUE=DATE:20220628
DTEND;VALUE=DATE:20220701
DTSTAMP:20260425T072503
CREATED:20220524T153039Z
LAST-MODIFIED:20220524T153138Z
UID:8957-1656374400-1656633599@www.agrisafe.org
SUMMARY:AgrAbility Regional Workshop
DESCRIPTION:AgrAbility is a program sponsored by the US Department of Agriculture that provides assistance to farmers\, ranchers and other agricultural workers\, and farm family members impacted by disability\, illness or chronic conditions.  The program is funded through a competitive grant process for one National Project and State/ Regional Projects (currently serving 20 states).  Each project involves a collaborative partnership between land grant universities and various non-profit disability services organizations. \nRegional AgrAbility Workshops are a great way to network with AgrAbility peers and other professionals that have a role in assisting our clients. \nThis Regional Workshop will focus on urban agriculture\, working with vocational rehabilitation\, prescription medication safety\, assistive technology in agriculture\, farming with a developmental disability\, business planning and work/life balance.   On June 28th and 29th\, there will be speakers from the National AgrAbility Project\, Ohio AgrAbility Project\, Opportunities for Ohioans with Disabilities\, The Ohio State University\, H.A.R.D. Acre Farm\, LifeLyfts\, Farm Service Agency\, and others. \nThere will also be a day of Agricultural Tours on Thursday\, June 30th. \nIn addition to those who are interested in assisting farmers with a disability or long-term health condition\, this workshop would be helpful to: \n\nService providers (VR\, state agencies\, governmental organizations)\nAgricultural professionals (Extension\, FFA\, ag educators)\nOccupational/Physical therapists\, staff\, teachers\, and students\nStaff from other state AgrAbility projects and those working in ag safety\, health\, and wellness\n\nYou may view the agenda here:  Ohio Agenda.pdf The agenda is subject to change. \nRegistration is open through June 22nd. \n Register
URL:https://www.agrisafe.org/event/agrability-regional-workshop/
CATEGORIES:Hazards
ATTACH;FMTTYPE=image/png:https://www.agrisafe.org/wp-content/uploads/2022/02/Heirs-Property-3.png
END:VEVENT
BEGIN:VEVENT
DTSTART;TZID=America/Chicago:20220630T120000
DTEND;TZID=America/Chicago:20220630T130000
DTSTAMP:20260425T072503
CREATED:20220527T203847Z
LAST-MODIFIED:20220810T171556Z
UID:8990-1656590400-1656594000@www.agrisafe.org
SUMMARY:Webinar: More than Milk: Strong Bones and Injury Prevention for Aging Women in Ag
DESCRIPTION:Summary: Do farmers or ranchers really retire? Generational family operations frequently include the aging parents\, the living legends of agriculture. Farmers and ranchers self-identify good health with the ability to work. The normal aging process slows down one’s ability to engage in meaningful activities physically and mentally\, essentially to continue working. Swirl in the postmenopausal issues incurred by the female farmer\, and a myriad of health hazards arise. \nUnlike men\, who experience a gradual loss of bone mass as they age\, women will lose over 30% of their bone mass in the first five years after menopause. Agriculture is a hazardous and uncertain profession. Women are working well past the age of menopause. Training measures should focus on avoiding common risk factors and preventative actions to decrease the likelihood of an injury. Workplace and home safety are achievable. We will also address other age-related changes such as vision\, hearing\, and sleep disturbance. Every member of the family operation will benefit from learning creative strategies and solutions to help the aging in-place seniors achieve wellness and self-fulfillment.\n \nThis material was produced under grant number SH-37171-SH1 from the Occupational Safety and Health Administration\, U.S. Department of Labor. It does not necessarily reflect the views or policies of the U.S. Department of Labor\, nor does mention of trade names\, commercial products\, or organizations imply endorsement by the U.S. Government. \n Watch Now  \n 
URL:https://www.agrisafe.org/event/webinar-more-than-milk-strong-bones-and-injury-prevention-for-aging-women-in-ag/
CATEGORIES:Aging Farmers,Farmer/Worker Health,OSHA Standards,Women's Health
ATTACH;FMTTYPE=image/jpeg:https://www.agrisafe.org/wp-content/uploads/2022/05/promo-images-3.jpg
ORGANIZER;CN="Linda Emanuel%2C BSN%2C RN":MAILTO:info@agrisafe.org
END:VEVENT
BEGIN:VEVENT
DTSTART;TZID=America/Chicago:20220630T120000
DTEND;TZID=America/Chicago:20220630T133000
DTSTAMP:20260425T072503
CREATED:20220519T164742Z
LAST-MODIFIED:20221121T151140Z
UID:8739-1656590400-1656595800@www.agrisafe.org
SUMMARY:QPR for Farmers and Farm Families
DESCRIPTION:What is QPR? QPR training teaches laypeople and professionals to recognize and respond to mental health crises using the approach of Question\, Persuade and Refer. \nTo attend this training participants must be 18 years of age or older. \nIn this 1.5-hour QPR training\, we will provide:\n– Information on the unique challenges farmers face that can lead to stress\, depression\, and suicide.\n– Examples implementing each QPR component with someone at risk for suicide.\n– Information on how to help someone at risk of suicide. \nRegistration spots are limited\, so please only register if you can attend the event. No recording of this training will be available. Interested in hosting a QPR training session for your organization? Contact Olivia Bury (obury@agrisafe.org) for more information! \n This training has already happened\, see a list of our upcoming QPR training dates here!
URL:https://www.agrisafe.org/event/qpr-for-farmers-and-farm-families-5/
CATEGORIES:Cognition,Mental Health,QPR
ATTACH;FMTTYPE=image/png:https://www.agrisafe.org/wp-content/uploads/2021/09/QPR-Virtual-Training-Banner.png
END:VEVENT
END:VCALENDAR