BEGIN:VCALENDAR
VERSION:2.0
PRODID:-//AgriSafe Network - ECPv6.15.20//NONSGML v1.0//EN
CALSCALE:GREGORIAN
METHOD:PUBLISH
X-WR-CALNAME:AgriSafe Network
X-ORIGINAL-URL:https://www.agrisafe.org
X-WR-CALDESC:Events for AgriSafe Network
REFRESH-INTERVAL;VALUE=DURATION:PT1H
X-Robots-Tag:noindex
X-PUBLISHED-TTL:PT1H
BEGIN:VTIMEZONE
TZID:America/Chicago
BEGIN:DAYLIGHT
TZOFFSETFROM:-0600
TZOFFSETTO:-0500
TZNAME:CDT
DTSTART:20210314T080000
END:DAYLIGHT
BEGIN:STANDARD
TZOFFSETFROM:-0500
TZOFFSETTO:-0600
TZNAME:CST
DTSTART:20211107T070000
END:STANDARD
BEGIN:DAYLIGHT
TZOFFSETFROM:-0600
TZOFFSETTO:-0500
TZNAME:CDT
DTSTART:20220313T080000
END:DAYLIGHT
BEGIN:STANDARD
TZOFFSETFROM:-0500
TZOFFSETTO:-0600
TZNAME:CST
DTSTART:20221106T070000
END:STANDARD
BEGIN:DAYLIGHT
TZOFFSETFROM:-0600
TZOFFSETTO:-0500
TZNAME:CDT
DTSTART:20230312T080000
END:DAYLIGHT
BEGIN:STANDARD
TZOFFSETFROM:-0500
TZOFFSETTO:-0600
TZNAME:CST
DTSTART:20231105T070000
END:STANDARD
END:VTIMEZONE
BEGIN:VEVENT
DTSTART;TZID=America/Chicago:20220504T123000
DTEND;TZID=America/Chicago:20220504T131500
DTSTAMP:20260425T205640
CREATED:20220421T162153Z
LAST-MODIFIED:20220505T190357Z
UID:8463-1651667400-1651670100@www.agrisafe.org
SUMMARY:Webinar: Ag Worker Health and Avian Influenza
DESCRIPTION:Summary: Avian Influenza is a disease caused by viruses that can infect birds and people. Avian influenza viruses are routinely present in wild bird species and can be transmitted to backyard and commercial poultry\, but very rarely to people. This presentation will focus on understanding the current state of the avian influenza outbreak in the US and provide recommendations for personal protective equipment for people who work with poultry and poultry products. \nObjectives: At the end of this presentation\, participants will be able to… \n\nDescribe avian influenza and how it can be transmitted between birds\nIdentify appropriate personal protective equipment (PPE) to use when working with exposed or ill animals\nRecognize the human signs and symptoms that may indicate an avian influenza exposure\nAccess evidence-based health & safety resources focused on safe practices when working around potential animal-borne diseases\n\nIntended Audience: Ag producers\, farmers\, poultry workers\, veterinarians\, healthcare providers\, and anyone with exposure to poultry or other birds \nThis webinar is offered in English with Spanish interpretation\, provided courtesy of the National Center for Farmworker Health \n  \n Watch the Recording Here  \n  \n\n 
URL:https://www.agrisafe.org/event/webinar-ag-worker-health-and-avian-influenza/
CATEGORIES:Farmer/Worker Health,Zoonotic Diseases
ATTACH;FMTTYPE=image/jpeg:https://www.agrisafe.org/wp-content/uploads/2022/04/turkey.jpg
ORGANIZER;CN="Chad Roy%2C PhD%2C MSPH":MAILTO:info@agrisafe.org
END:VEVENT
END:VCALENDAR