BEGIN:VCALENDAR
VERSION:2.0
PRODID:-//AgriSafe Network - ECPv6.15.20//NONSGML v1.0//EN
CALSCALE:GREGORIAN
METHOD:PUBLISH
X-ORIGINAL-URL:https://www.agrisafe.org
X-WR-CALDESC:Events for AgriSafe Network
REFRESH-INTERVAL;VALUE=DURATION:PT1H
X-Robots-Tag:noindex
X-PUBLISHED-TTL:PT1H
BEGIN:VTIMEZONE
TZID:America/Chicago
BEGIN:DAYLIGHT
TZOFFSETFROM:-0600
TZOFFSETTO:-0500
TZNAME:CDT
DTSTART:20200308T080000
END:DAYLIGHT
BEGIN:STANDARD
TZOFFSETFROM:-0500
TZOFFSETTO:-0600
TZNAME:CST
DTSTART:20201101T070000
END:STANDARD
BEGIN:DAYLIGHT
TZOFFSETFROM:-0600
TZOFFSETTO:-0500
TZNAME:CDT
DTSTART:20210314T080000
END:DAYLIGHT
BEGIN:STANDARD
TZOFFSETFROM:-0500
TZOFFSETTO:-0600
TZNAME:CST
DTSTART:20211107T070000
END:STANDARD
BEGIN:DAYLIGHT
TZOFFSETFROM:-0600
TZOFFSETTO:-0500
TZNAME:CDT
DTSTART:20220313T080000
END:DAYLIGHT
BEGIN:STANDARD
TZOFFSETFROM:-0500
TZOFFSETTO:-0600
TZNAME:CST
DTSTART:20221106T070000
END:STANDARD
END:VTIMEZONE
BEGIN:VEVENT
DTSTART;TZID=America/Chicago:20210519T120000
DTEND;TZID=America/Chicago:20210519T130000
DTSTAMP:20260423T034905
CREATED:20210713T012351Z
LAST-MODIFIED:20220303T152313Z
UID:2221-1621425600-1621429200@www.agrisafe.org
SUMMARY:Zoonotic Disease and Pregnancy: A Deeper Dive
DESCRIPTION:Summary: Zoonotic Diseases are transmitted between farm animals and humans and can pose additional risks to those who are pregnant. According to the World Health Organization\, more than half of all human pathogens are zoonotic and have represented nearly all emerging pathogens during the past decade. Farmers and farm workers have higher levels of risk for contracting zoonotic diseases because of the frequency of their exposure to animals. Prevention is the best defense. Understanding how the disease transmission process works\, building a team and effectively communicating within that team are essential in preventing the spread of zoonotic disease. Women working in agriculture should be aware of the following special considerations during pregnancy; which animals are common carriers of zoonotic disease\, symptoms of the disease(s)\, prevention measures\, and pregnancy risks. \nObjectives– At the end of the presentation\, participants will be able to:\n-Define zoonotic disease and identify various modes of transmission\n-Identify a minimum of four significant zoonotic diseases affecting the production agricultural population\n-Discuss warning signs and symptoms of major zoonotic diseases which have adverse effects for reproductive health\n-Locate a minimum of three recommended educational resources for use in training an agricultural workforce \nIntended Audience: Supervisor or Managers: This training is intended primarily for health and safety professionals including but not limited to owner/operators\, safety officers or specialists\, managers\, supervisors\, safety coordinators\,  health safety and environmental interns and any person or persons who serve as safety personnel in an agricultural setting. \nProducers: This training is intended primarily for agricultural producers including but not limited to farmers\, ranchers\, and any person or persons involved in some combination of raising field crops\, orchards\, vineyards\, horticulture\, or other livestock. \n  \n This training has expired. Let us know if you’d like us to schedule it again! \n\n\n                \n                        \n                            Repeat This Webinar\n                             \n                        \n                        LinkedInThis field is for validation purposes and should be left unchanged.Title of Webinar(Required)Would you like to be contacted if we are able to schedule this webinar again?(Required)\n			\n					\n					Yes\n			\n			\n					\n					No\n			Email
URL:https://www.agrisafe.org/event/zoonotic-disease-and-pregnancy-a-deeper-dive/
CATEGORIES:Farmer/Worker Health,Hazards,Mental Health,OSHA Standards,Pesticide & Chemical Safety,Women's Health,Zoonotic Diseases
ORGANIZER;CN="Knesha Rose-Davison%2C MPH%2C CPH":MAILTO:info@agrisafe.org
END:VEVENT
END:VCALENDAR