BEGIN:VCALENDAR
VERSION:2.0
PRODID:-//AgriSafe Network - ECPv6.15.20//NONSGML v1.0//EN
CALSCALE:GREGORIAN
METHOD:PUBLISH
X-ORIGINAL-URL:https://www.agrisafe.org
X-WR-CALDESC:Events for AgriSafe Network
REFRESH-INTERVAL;VALUE=DURATION:PT1H
X-Robots-Tag:noindex
X-PUBLISHED-TTL:PT1H
BEGIN:VTIMEZONE
TZID:America/Chicago
BEGIN:DAYLIGHT
TZOFFSETFROM:-0600
TZOFFSETTO:-0500
TZNAME:CDT
DTSTART:20190310T080000
END:DAYLIGHT
BEGIN:STANDARD
TZOFFSETFROM:-0500
TZOFFSETTO:-0600
TZNAME:CST
DTSTART:20191103T070000
END:STANDARD
BEGIN:DAYLIGHT
TZOFFSETFROM:-0600
TZOFFSETTO:-0500
TZNAME:CDT
DTSTART:20200308T080000
END:DAYLIGHT
BEGIN:STANDARD
TZOFFSETFROM:-0500
TZOFFSETTO:-0600
TZNAME:CST
DTSTART:20201101T070000
END:STANDARD
BEGIN:DAYLIGHT
TZOFFSETFROM:-0600
TZOFFSETTO:-0500
TZNAME:CDT
DTSTART:20210314T080000
END:DAYLIGHT
BEGIN:STANDARD
TZOFFSETFROM:-0500
TZOFFSETTO:-0600
TZNAME:CST
DTSTART:20211107T070000
END:STANDARD
END:VTIMEZONE
BEGIN:VEVENT
DTSTART;TZID=America/Chicago:20201112T120000
DTEND;TZID=America/Chicago:20201112T130000
DTSTAMP:20260421T140858
CREATED:20210713T013448Z
LAST-MODIFIED:20210713T023459Z
UID:2267-1605182400-1605186000@www.agrisafe.org
SUMMARY:AgriSafe Think Tank: Racism and Agricultural Health
DESCRIPTION:This Think Tank Webinar will address racism as a public health crisis and its impact on the agricultural workforce. Your help is needed to identify\, disrupt and dismantle racism to protect the well being of agricultural producers of Black\, Indigenous and People of Color (BIPOC) ethnicities. AgriSafe is committed to fostering dialogue across the nation that results in a racially equitable response to this crisis. Join us for this Think Tank where together we will define the problem and discover solutions to reduce health disparities that are amplified by racism. \n\n\nRegistration Instructions: \n\n\n\nIf you don’t already have a profile with AgriSafe\, please set up a free account. This free account allows you access to our many training opportunities. Once you have signed up\, you can watch this webinar on-demand. \n\n\n  \n Watch this webinar on-demand.
URL:https://www.agrisafe.org/event/agrisafe-think-tank-racism-and-agricultural-health/
CATEGORIES:BIPOC Farmers,Farmer/Worker Health,Social
ORGANIZER;CN="Dr. Benjamin-Robinson":MAILTO:info@agrisafe.org
END:VEVENT
END:VCALENDAR