BEGIN:VCALENDAR
VERSION:2.0
PRODID:-//AgriSafe Network - ECPv6.15.20//NONSGML v1.0//EN
CALSCALE:GREGORIAN
METHOD:PUBLISH
X-ORIGINAL-URL:https://www.agrisafe.org
X-WR-CALDESC:Events for AgriSafe Network
REFRESH-INTERVAL;VALUE=DURATION:PT1H
X-Robots-Tag:noindex
X-PUBLISHED-TTL:PT1H
BEGIN:VTIMEZONE
TZID:America/Chicago
BEGIN:DAYLIGHT
TZOFFSETFROM:-0600
TZOFFSETTO:-0500
TZNAME:CDT
DTSTART:20190310T080000
END:DAYLIGHT
BEGIN:STANDARD
TZOFFSETFROM:-0500
TZOFFSETTO:-0600
TZNAME:CST
DTSTART:20191103T070000
END:STANDARD
BEGIN:DAYLIGHT
TZOFFSETFROM:-0600
TZOFFSETTO:-0500
TZNAME:CDT
DTSTART:20200308T080000
END:DAYLIGHT
BEGIN:STANDARD
TZOFFSETFROM:-0500
TZOFFSETTO:-0600
TZNAME:CST
DTSTART:20201101T070000
END:STANDARD
BEGIN:DAYLIGHT
TZOFFSETFROM:-0600
TZOFFSETTO:-0500
TZNAME:CDT
DTSTART:20210314T080000
END:DAYLIGHT
BEGIN:STANDARD
TZOFFSETFROM:-0500
TZOFFSETTO:-0600
TZNAME:CST
DTSTART:20211107T070000
END:STANDARD
END:VTIMEZONE
BEGIN:VEVENT
DTSTART;TZID=America/Chicago:20200910T120000
DTEND;TZID=America/Chicago:20200910T130000
DTSTAMP:20260421T091616
CREATED:20210713T014345Z
LAST-MODIFIED:20240627T163815Z
UID:2263-1599739200-1599742800@www.agrisafe.org
SUMMARY:Veteran Farmers: Reducing Noise Exposure & Protecting Your Health
DESCRIPTION:Ag producers experience frequent exposure to high noise and have among the highest prevalence rates of hearing loss among all categories of workers. Additionally\, noise exposure impacts multiple organ systems\, contributing to cardiovascular disease\, hypertension\, obesity\, and other highly prevalent diseases. Although the effects of noise can be mitigated through use of hearing protection and other strategies\, these methods are highly underused in this worker group. In this Webinar designed for agricultural producers who are military veterans\, learners will learn how to identify hazardous noise sources\, strategies to reduce exposure to hazardous noise; and select and use of strategies to protect themselves from the negative effects of noise on their hearing and general health. \nIntended Audience: Military Veterans engaged in agricultural production \nObjectives:\nUpon completion of this training\, participants will be able to: \n\nIdentify harmful noise sources which have the potential to cause hearing damage and other health effects\nIdentify strategies to reduce exposure to hazardous noise\nDescribe appropriate selection and use of personal protective equipment\n\n\n\nRegistration Instructions: \n\n\n\nIf you don’t already have a profile with AgriSafe\, please set up a free account. This free account allows you access to our many training opportunities. Once you have signed up\, you can watch this webinar on-demand. \n\n\n  \n Watch this webinar on-demand.
URL:https://www.agrisafe.org/event/veteran-farmers-reducing-noise-exposure-protecting-your-health/
CATEGORIES:Hazards,Hearing Loss Prevention,Veteran’s Health
ORGANIZER;CN="Marjorie McCullagh%2C PhD%2C RN":MAILTO:info@agrisafe.org
END:VEVENT
END:VCALENDAR