BEGIN:VCALENDAR
VERSION:2.0
PRODID:-//AgriSafe Network - ECPv6.15.20//NONSGML v1.0//EN
CALSCALE:GREGORIAN
METHOD:PUBLISH
X-WR-CALNAME:AgriSafe Network
X-ORIGINAL-URL:https://www.agrisafe.org
X-WR-CALDESC:Events for AgriSafe Network
REFRESH-INTERVAL;VALUE=DURATION:PT1H
X-Robots-Tag:noindex
X-PUBLISHED-TTL:PT1H
BEGIN:VTIMEZONE
TZID:America/Chicago
BEGIN:DAYLIGHT
TZOFFSETFROM:-0600
TZOFFSETTO:-0500
TZNAME:CDT
DTSTART:20190310T080000
END:DAYLIGHT
BEGIN:STANDARD
TZOFFSETFROM:-0500
TZOFFSETTO:-0600
TZNAME:CST
DTSTART:20191103T070000
END:STANDARD
BEGIN:DAYLIGHT
TZOFFSETFROM:-0600
TZOFFSETTO:-0500
TZNAME:CDT
DTSTART:20200308T080000
END:DAYLIGHT
BEGIN:STANDARD
TZOFFSETFROM:-0500
TZOFFSETTO:-0600
TZNAME:CST
DTSTART:20201101T070000
END:STANDARD
BEGIN:DAYLIGHT
TZOFFSETFROM:-0600
TZOFFSETTO:-0500
TZNAME:CDT
DTSTART:20210314T080000
END:DAYLIGHT
BEGIN:STANDARD
TZOFFSETFROM:-0500
TZOFFSETTO:-0600
TZNAME:CST
DTSTART:20211107T070000
END:STANDARD
END:VTIMEZONE
BEGIN:VEVENT
DTSTART;TZID=America/Chicago:20200312T120000
DTEND;TZID=America/Chicago:20200312T130000
DTSTAMP:20260421T061552
CREATED:20210713T005354Z
LAST-MODIFIED:20260312T143557Z
UID:2284-1584014400-1584018000@www.agrisafe.org
SUMMARY:Learning When To Put the Work Away: Finding Balance for Veteran Farmers
DESCRIPTION:Often times it is better to hear from someone experiencing the same things\, rather than someone telling you they understand what you’re going through. Listen in as Shay Foulk discusses the real challenges and opportunities he has faced as a returning farmer veteran\, and how he is learning and living ways to try to shut down. Honest\, open\, and frank\, Shay will discuss topics that may seem uncomfortable to talk about with others in the industry\, because they don’t quite understand what that transition is like in today’s environment. If you’re a farmer veteran in agriculture\, someone who works with and wants to better understand veterans\, or someone simply interested in the challenges and opportunities veterans in agriculture face today\, be sure to tune in. \nIntended audience: Veteran Farmers \nObjectives: \nUpon completion of this training\, participants will be able to: \n\nWhy veteran farmers don’t know how to shut down\nWhy we need to shut down and step away from work\nHow we can implement healthier decisions\nWhy not knowing how to shut down is a positive thing\nOther things to consider and lessons learned\n\n  \n\n\nRegistration Instructions: \n\n\n\nIf you don’t already have a profile with AgriSafe\, please set up a free account. This free account allows you access to our many training opportunities. Once you have signed up\, you can watch this webinar on-demand. \n\n\n  \n Watch this webinar on-demand.
URL:https://www.agrisafe.org/event/learning-when-to-put-the-work-away-finding-balance-for-veteran-farmers/
CATEGORIES:Cognition,Mental Health,Veteran’s Health
ORGANIZER;CN="Shay Foulk":MAILTO:info@agrisafe.org
END:VEVENT
END:VCALENDAR