BEGIN:VCALENDAR
VERSION:2.0
PRODID:-//AgriSafe Network - ECPv6.15.20//NONSGML v1.0//EN
CALSCALE:GREGORIAN
METHOD:PUBLISH
X-ORIGINAL-URL:https://www.agrisafe.org
X-WR-CALDESC:Events for AgriSafe Network
REFRESH-INTERVAL;VALUE=DURATION:PT1H
X-Robots-Tag:noindex
X-PUBLISHED-TTL:PT1H
BEGIN:VTIMEZONE
TZID:America/Chicago
BEGIN:DAYLIGHT
TZOFFSETFROM:-0600
TZOFFSETTO:-0500
TZNAME:CDT
DTSTART:20180311T080000
END:DAYLIGHT
BEGIN:STANDARD
TZOFFSETFROM:-0500
TZOFFSETTO:-0600
TZNAME:CST
DTSTART:20181104T070000
END:STANDARD
BEGIN:DAYLIGHT
TZOFFSETFROM:-0600
TZOFFSETTO:-0500
TZNAME:CDT
DTSTART:20190310T080000
END:DAYLIGHT
BEGIN:STANDARD
TZOFFSETFROM:-0500
TZOFFSETTO:-0600
TZNAME:CST
DTSTART:20191103T070000
END:STANDARD
BEGIN:DAYLIGHT
TZOFFSETFROM:-0600
TZOFFSETTO:-0500
TZNAME:CDT
DTSTART:20200308T080000
END:DAYLIGHT
BEGIN:STANDARD
TZOFFSETFROM:-0500
TZOFFSETTO:-0600
TZNAME:CST
DTSTART:20201101T070000
END:STANDARD
END:VTIMEZONE
BEGIN:VEVENT
DTSTART;TZID=America/Chicago:20191216T120000
DTEND;TZID=America/Chicago:20191216T130000
DTSTAMP:20260421T110108
CREATED:20210713T005055Z
LAST-MODIFIED:20210713T005055Z
UID:2276-1576497600-1576501200@www.agrisafe.org
SUMMARY:Helping Farmers Weather the Storm of Emotions + Economics: NY Farmnet
DESCRIPTION:NY FarmNet\, a Cornell University program\, helps farmers in New York state navigate the waters of growth\, change\, and crisis. Since 1986\, NY FarmNet has provided free\, confidential on farm consulting to thousands of farmers and their families. With its unique\, holistic approach – offering both financial and family/personal guidance – the program is able to help farm families work through a multitude of challenges that may be affecting the farm business. This webinar will discuss the impact of NY FarmNet’s work\, as well as some best practices for working with and engaging farmers. \n  \nLearning Objectives: \n\nGain insight on providing direct counseling services to farmers.\nRecognize the benefits of addressing both the financial and emotional sides of farm businesses.\nIdentify existing networks to support farmers and farm families.\n\n  \n\n\nRegistration Instructions: \n\n\n\nIf you don’t already have a profile with AgriSafe\, please set up a free account. This free account allows you access to our many training opportunities. Once you have signed up\, you can watch this webinar on-demand. \n\n\n  \n Watch this webinar on-demand.
URL:https://www.agrisafe.org/event/helping-farmers-weather-the-storm-of-emotions-economics-ny-farmnet/
CATEGORIES:Cognition,Mental Health
ORGANIZER;CN="Brenda O'Brien":MAILTO:info@agrisafe.org
END:VEVENT
END:VCALENDAR