BEGIN:VCALENDAR
VERSION:2.0
PRODID:-//AgriSafe Network - ECPv6.15.20//NONSGML v1.0//EN
CALSCALE:GREGORIAN
METHOD:PUBLISH
X-ORIGINAL-URL:https://www.agrisafe.org
X-WR-CALDESC:Events for AgriSafe Network
REFRESH-INTERVAL;VALUE=DURATION:PT1H
X-Robots-Tag:noindex
X-PUBLISHED-TTL:PT1H
BEGIN:VTIMEZONE
TZID:America/Chicago
BEGIN:DAYLIGHT
TZOFFSETFROM:-0600
TZOFFSETTO:-0500
TZNAME:CDT
DTSTART:20170312T080000
END:DAYLIGHT
BEGIN:STANDARD
TZOFFSETFROM:-0500
TZOFFSETTO:-0600
TZNAME:CST
DTSTART:20171105T070000
END:STANDARD
BEGIN:DAYLIGHT
TZOFFSETFROM:-0600
TZOFFSETTO:-0500
TZNAME:CDT
DTSTART:20180311T080000
END:DAYLIGHT
BEGIN:STANDARD
TZOFFSETFROM:-0500
TZOFFSETTO:-0600
TZNAME:CST
DTSTART:20181104T070000
END:STANDARD
BEGIN:DAYLIGHT
TZOFFSETFROM:-0600
TZOFFSETTO:-0500
TZNAME:CDT
DTSTART:20190310T080000
END:DAYLIGHT
BEGIN:STANDARD
TZOFFSETFROM:-0500
TZOFFSETTO:-0600
TZNAME:CST
DTSTART:20191103T070000
END:STANDARD
END:VTIMEZONE
BEGIN:VEVENT
DTSTART;TZID=America/Chicago:20181119T120000
DTEND;TZID=America/Chicago:20181119T130000
DTSTAMP:20260422T004145
CREATED:20210713T015158Z
LAST-MODIFIED:20220303T151842Z
UID:2287-1542628800-1542632400@www.agrisafe.org
SUMMARY:Understanding Agricultural Respiratory Hazards and Respirator Selection
DESCRIPTION:This presentation takes a practical look at the exemption status\, how it is defined and where it affects various segments of production agriculture. This program is designed for workers in production agriculture\, worksite managers and supervisors\, agricultural business owners and those involved in family farming or ranching. \nAt the end of this presentation participants will be able to: \n\nIdentify OSHA standards specific to agriculture\nIdentify General Industry OSHA standards that should be considered in agriculture\nUnderstand OSHA exemption\nDifferentiate between federal OSHA\, state OSHA\, NIOSH\, EPA (Environmental Protection Agency) and WPS (Worker Protection Standard)\nLocate resources to aid in OSHA standards compliance.\n\n This training has expired. Let us know if you’d like us to schedule it again! \n\n\n                \n                        \n                            Repeat This Webinar\n                             \n                        \n                        FacebookThis field is for validation purposes and should be left unchanged.Title of Webinar(Required)Would you like to be contacted if we are able to schedule this webinar again?(Required)\n			\n					\n					Yes\n			\n			\n					\n					No\n			Email
URL:https://www.agrisafe.org/event/understanding-agricultural-respiratory-hazards-and-respirator-selection/
CATEGORIES:Hazards,OSHA Standards,Personal Protective Equipment,Respiratory Health
ORGANIZER;CN="Charlotte Halverson%2C RN%2C BSN%2C COHN-S":MAILTO:info@agrisafe.org
END:VEVENT
END:VCALENDAR