BEGIN:VCALENDAR
VERSION:2.0
PRODID:-//AgriSafe Network - ECPv6.15.20//NONSGML v1.0//EN
CALSCALE:GREGORIAN
METHOD:PUBLISH
X-WR-CALNAME:AgriSafe Network
X-ORIGINAL-URL:https://www.agrisafe.org
X-WR-CALDESC:Events for AgriSafe Network
REFRESH-INTERVAL;VALUE=DURATION:PT1H
X-Robots-Tag:noindex
X-PUBLISHED-TTL:PT1H
BEGIN:VTIMEZONE
TZID:America/Chicago
BEGIN:DAYLIGHT
TZOFFSETFROM:-0600
TZOFFSETTO:-0500
TZNAME:CDT
DTSTART:20170312T080000
END:DAYLIGHT
BEGIN:STANDARD
TZOFFSETFROM:-0500
TZOFFSETTO:-0600
TZNAME:CST
DTSTART:20171105T070000
END:STANDARD
BEGIN:DAYLIGHT
TZOFFSETFROM:-0600
TZOFFSETTO:-0500
TZNAME:CDT
DTSTART:20180311T080000
END:DAYLIGHT
BEGIN:STANDARD
TZOFFSETFROM:-0500
TZOFFSETTO:-0600
TZNAME:CST
DTSTART:20181104T070000
END:STANDARD
BEGIN:DAYLIGHT
TZOFFSETFROM:-0600
TZOFFSETTO:-0500
TZNAME:CDT
DTSTART:20190310T080000
END:DAYLIGHT
BEGIN:STANDARD
TZOFFSETFROM:-0500
TZOFFSETTO:-0600
TZNAME:CST
DTSTART:20191103T070000
END:STANDARD
END:VTIMEZONE
BEGIN:VEVENT
DTSTART;TZID=America/Chicago:20180612T120000
DTEND;TZID=America/Chicago:20180612T130000
DTSTAMP:20260421T165219
CREATED:20210713T011821Z
LAST-MODIFIED:20241218T223225Z
UID:2254-1528804800-1528808400@www.agrisafe.org
SUMMARY:Increasing the Use of Hearing Protection Among Farmers: Best Practices
DESCRIPTION:Farm operators\, as well as farm youth\, experience frequent exposure to high noise and have among the highest rates of hearing loss among all categories of workers. Additionally\, noise exposure impacts multiple organ systems\, contributing to cardiovascular disease\, hypertension\, obesity\, and other highly prevalent diseases. Although the effects of noise can be mitigated through use of hearing protection and other strategies\, these methods are highly underused in this worker group. Nurses in a variety of clinical settings who provide care for farm operators and farm youth are in a unique position to influence the noise mitigation behaviors of this high-risk and underserved group. In this webinar designed for nurses caring for workers in production agriculture\, learners will discuss methods of assessing worker exposure to hazardous noise\, and evidence-based nursing approaches to protect workers from the negative effects of noise on hearing and worker well-being. \nAt the end of the webinar\, participants will be able to: \n\nDiscuss several risk factors for noise-induced health problems common among farmers.\nDescribe major features of interventions shown to be effective in influencing farmers’ use of hearing protection.\nDiscuss best practices for clinical application of farm noise mitigation effectiveness research.\n\n  \n This training has expired. Let us know if you’d like us to schedule it again! \n\n\n                \n                        \n                            Repeat This Webinar\n                             \n                        \n                        X/TwitterThis field is for validation purposes and should be left unchanged.Title of Webinar(Required)Would you like to be contacted if we are able to schedule this webinar again?(Required)\n			\n					\n					Yes\n			\n			\n					\n					No\n			Email
URL:https://www.agrisafe.org/event/increasing-the-use-of-hearing-protection-among-farmers-best-practices/
CATEGORIES:Farmer/Worker Health,Hazards,Health Education and Promotion,Hearing Loss Prevention,Personal Protective Equipment
ORGANIZER;CN="Marjorie McCullagh%2C PhD%2C RN":MAILTO:info@agrisafe.org
END:VEVENT
END:VCALENDAR